Workbook
Name Emisije: Sheet2!$A$11:$A$2092
Name Lista1: Sheet3!$A$2:$A$28
Name Nak: Sheet3!$AD$2:$AD$126
Name Nakladnici: Sheet3!$AD$2:$AD$115
Name Trajanje: Sheet2!$D$11:$D$2406

Sheet Sheet2
A1: Odaberite ime nakladnika: | B1: Kategorija | C1: Naziv emisije | D1: Broj dnevnih ponavljanja emisije ( upisati samo ako se emitira više od jedne emisije dnevno) | E1: Napomena: U tablici se nalazi popis svih emisija kojima su nakladnici aplicirali na fond za pluralizam, a dužni su ispuniti podatke samo o emisijama za koje su im dodijeljena sredstva!
A2: JADRANSKA RADIJSKA MREŽA d.o.o. | B2: Poticanje kulturne raznolikosti i njegovanja baštine | C2: {=INDEX(Sheet3!$A$2:$C$1135, SMALL(IF(Sheet3!$A$2:$C$1135=$A$2,ROW(Sheet3!$A$2:$C$1135)),ROW(2:2)),3)} -> KLAPO MOJA
B3: Razvoj odgoja, obrazovanja, znanosti i umjetnosti | C3: {=INDEX(Sheet3!$A$2:$C$1135, SMALL(IF(Sheet3!$A$2:$C$1135=$A$2,ROW(Sheet3!$A$2:$C$1135)),ROW(3:3)),3)} -> VIŠKE RIČI
B4: Posebni programi na područjima od posebne državne skrbi | C4: {=INDEX(Sheet3!$A$2:$C$1135, SMALL(IF(Sheet3!$A$2:$C$1135=$A$2,ROW(Sheet3!$A$2:$C$1135)),ROW(4:4)),3)} -> FEŠTA O' MORA
B5: Nacionalne manjine u Republici Hrvatskoj | C5: {=INDEX(Sheet3!$A$2:$C$1135, SMALL(IF(Sheet3!$A$2:$C$1135=$A$2,ROW(Sheet3!$A$2:$C$1135)),ROW(5:5)),3)} -> Naziv emisije nije upisan
B6: Poticanje stvaralaštva na narječjima hrvatskog jezika | C6: {=INDEX(Sheet3!$A$2:$C$1135, SMALL(IF(Sheet3!$A$2:$C$1135=$A$2,ROW(Sheet3!$A$2:$C$1135)),ROW(6:6)),3)} -> ŠKOJI
B7: Poticanje razvoja svijesti o ravnopravnosti spolova | C7: {=INDEX(Sheet3!$A$2:$C$1135, SMALL(IF(Sheet3!$A$2:$C$1135=$A$2,ROW(Sheet3!$A$2:$C$1135)),ROW(7:7)),3)} -> ŠINJORE
B8: Kvalitetni programi za djecu i mlade | C8: {=INDEX(Sheet3!$A$2:$C$1135, SMALL(IF(Sheet3!$A$2:$C$1135=$A$2,ROW(Sheet3!$A$2:$C$1135)),ROW(8:8)),3)} -> DICA SA ŠKOJA
A10: Naziv emisije | B10: Datum emitiranja | C10: Termin emitiranja | D10: Ukupno trajanje ( u minutama)

Sheet Sheet1
A1: Nakladnik | B1: Naziv emisije | C1: Planirani broj emitiranja | D1: Planirano minimalno trajanje | E1: Realizirano emisija | F1: Koeficijent realizacije | G1: Prosječno trajanje | H1: Broj emisija kraćeg trajanja od planiranog
A2: =Sheet2!A2 -> JADRANSKA RADIJSKA MREŽA d.o.o. | B2: =Sheet2!C2 -> KLAPO MOJA | C2: {=INDEX(Sheet3!$A$2:$AB$1135, SMALL(IF(Sheet3!$A$2:$A$1135=$A$2,ROW(Sheet3!$A$2:$AB$1135)),ROW(2:2)),28)} -> 52 | D2: {=INDEX(Sheet3!$A$2:$AB$1135, SMALL(IF(Sheet3!$A$2:$A$1135=$A$2,ROW(Sheet3!$A$2:$AB$1135)),ROW(2:2)),27)} -> 15 | E2: =IF(Sheet2!D2="",COUNTIF(Sheet2!A:A,Sheet1!B2),COUNTIF(Sheet2!A:A,Sheet1!B2)*Sheet2!D2) -> 0 | F2: =IF(B2="Naziv emisije nije upisan","",E2/C2) -> 0 | G2: =IF(B2="Naziv emisije nije upisan","",SUMIF(Sheet2!A:A,Sheet1!B2,Sheet2!D:D)/E2) -> #DIV/0! | H2: =COUNTIFS(Sheet2!A:A,B2,Sheet2!D:D,"<"&D2) -> 0
B3: =Sheet2!C3 -> VIŠKE RIČI | C3: {=INDEX(Sheet3!$A$2:$AB$1135, SMALL(IF(Sheet3!$A$2:$A$1135=$A$2,ROW(Sheet3!$A$2:$AB$1135)),ROW(3:3)),28)} -> 36 | D3: {=INDEX(Sheet3!$A$2:$AB$1135, SMALL(IF(Sheet3!$A$2:$A$1135=$A$2,ROW(Sheet3!$A$2:$AB$1135)),ROW(3:3)),27)} -> 15 | E3: =IF(Sheet2!D3="",COUNTIF(Sheet2!A:A,Sheet1!B3),COUNTIF(Sheet2!A:A,Sheet1!B3)*Sheet2!D3) -> 0 | F3: =IF(B3="Naziv emisije nije upisan","",E3/C3) -> 0 | G3: =IF(B3="Naziv emisije nije upisan","",SUMIF(Sheet2!A:A,Sheet1!B3,Sheet2!D:D)/E3) -> #DIV/0! | H3: =COUNTIFS(Sheet2!A:A,B3,Sheet2!D:D,"<"&D3) -> 0
B4: =Sheet2!C4 -> FEŠTA O' MORA | C4: {=INDEX(Sheet3!$A$2:$AB$1135, SMALL(IF(Sheet3!$A$2:$A$1135=$A$2,ROW(Sheet3!$A$2:$AB$1135)),ROW(4:4)),28)} -> 14 | D4: {=INDEX(Sheet3!$A$2:$AB$1135, SMALL(IF(Sheet3!$A$2:$A$1135=$A$2,ROW(Sheet3!$A$2:$AB$1135)),ROW(4:4)),27)} -> 10 | E4: =IF(Sheet2!D4="",COUNTIF(Sheet2!A:A,Sheet1!B4),COUNTIF(Sheet2!A:A,Sheet1!B4)*Sheet2!D4) -> 0 | F4: =IF(B4="Naziv emisije nije upisan","",E4/C4) -> 0 | G4: =IF(B4="Naziv emisije nije upisan","",SUMIF(Sheet2!A:A,Sheet1!B4,Sheet2!D:D)/E4) -> #DIV/0! | H4: =COUNTIFS(Sheet2!A:A,B4,Sheet2!D:D,"<"&D4) -> 0
B5: =Sheet2!C5 -> Naziv emisije nije upisan | C5: {=INDEX(Sheet3!$A$2:$AB$1135, SMALL(IF(Sheet3!$A$2:$A$1135=$A$2,ROW(Sheet3!$A$2:$AB$1135)),ROW(5:5)),28)} -> 0 | D5: {=INDEX(Sheet3!$A$2:$AB$1135, SMALL(IF(Sheet3!$A$2:$A$1135=$A$2,ROW(Sheet3!$A$2:$AB$1135)),ROW(5:5)),27)} -> 0 | E5: =IF(Sheet2!D5="",COUNTIF(Sheet2!A:A,Sheet1!B5),COUNTIF(Sheet2!A:A,Sheet1!B5)*Sheet2!D5) -> 0 | F5: =IF(B5="Naziv emisije nije upisan","",E5/C5) | G5: =IF(B5="Naziv emisije nije upisan","",SUMIF(Sheet2!A:A,Sheet1!B5,Sheet2!D:D)/E5) | H5: =COUNTIFS(Sheet2!A:A,B5,Sheet2!D:D,"<"&D5) -> 0
B6: =Sheet2!C6 -> ŠKOJI | C6: {=INDEX(Sheet3!$A$2:$AB$1135, SMALL(IF(Sheet3!$A$2:$A$1135=$A$2,ROW(Sheet3!$A$2:$AB$1135)),ROW(6:6)),28)} -> 52 | D6: {=INDEX(Sheet3!$A$2:$AB$1135, SMALL(IF(Sheet3!$A$2:$A$1135=$A$2,ROW(Sheet3!$A$2:$AB$1135)),ROW(6:6)),27)} -> 1xtj 15min | E6: =IF(Sheet2!D6="",COUNTIF(Sheet2!A:A,Sheet1!B6),COUNTIF(Sheet2!A:A,Sheet1!B6)*Sheet2!D6) -> 0 | F6: =IF(B6="Naziv emisije nije upisan","",E6/C6) -> 0 | G6: =IF(B6="Naziv emisije nije upisan","",SUMIF(Sheet2!A:A,Sheet1!B6,Sheet2!D:D)/E6) -> #DIV/0! | H6: =COUNTIFS(Sheet2!A:A,B6,Sheet2!D:D,"<"&D6) -> 0
B7: =Sheet2!C7 -> ŠINJORE | C7: {=INDEX(Sheet3!$A$2:$AB$1135, SMALL(IF(Sheet3!$A$2:$A$1135=$A$2,ROW(Sheet3!$A$2:$AB$1135)),ROW(7:7)),28)} -> 48 | D7: {=INDEX(Sheet3!$A$2:$AB$1135, SMALL(IF(Sheet3!$A$2:$A$1135=$A$2,ROW(Sheet3!$A$2:$AB$1135)),ROW(7:7)),27)} -> 1xtj 10-15min | E7: =IF(Sheet2!D7="",COUNTIF(Sheet2!A:A,Sheet1!B7),COUNTIF(Sheet2!A:A,Sheet1!B7)*Sheet2!D7) -> 0 | F7: =IF(B7="Naziv emisije nije upisan","",E7/C7) -> 0 | G7: =IF(B7="Naziv emisije nije upisan","",SUMIF(Sheet2!A:A,Sheet1!B7,Sheet2!D:D)/E7) -> #DIV/0! | H7: =COUNTIFS(Sheet2!A:A,B7,Sheet2!D:D,"<"&D7) -> 0
B8: =Sheet2!C8 -> DICA SA ŠKOJA | C8: {=INDEX(Sheet3!$A$2:$AB$1135, SMALL(IF(Sheet3!$A$2:$A$1135=$A$2,ROW(Sheet3!$A$2:$AB$1135)),ROW(8:8)),28)} -> 46 | D8: {=INDEX(Sheet3!$A$2:$AB$1135, SMALL(IF(Sheet3!$A$2:$A$1135=$A$2,ROW(Sheet3!$A$2:$AB$1135)),ROW(8:8)),27)} -> 10 | E8: =IF(Sheet2!D8="",COUNTIF(Sheet2!A:A,Sheet1!B8),COUNTIF(Sheet2!A:A,Sheet1!B8)*Sheet2!D8) -> 0 | F8: =IF(B8="Naziv emisije nije upisan","",E8/C8) -> 0 | G8: =IF(B8="Naziv emisije nije upisan","",SUMIF(Sheet2!A:A,Sheet1!B8,Sheet2!D:D)/E8) -> #DIV/0! | H8: =COUNTIFS(Sheet2!A:A,B8,Sheet2!D:D,"<"&D8) -> 0

Sheet Sheet3
A1: Naziv nakladnika | B1: Kategorija programa | C1: Naziv Emisije | D1: Ukupan prihod u 2011. godini | E1: Traženi iznos od AEM-a | F1: Trajanje emisije (u minutama) | G1: Prosječna cijena minute | H1: Značenje audiovizualnog i/ili radijskog programa za ostvarenje javnog interesa | I1: Kvaliteta i sadržajna inovativnost ponuđenog programa audiovizualnog i/ili radijskog programa | J1: Interes za opći, odnosno lokalni ili regionalni kulturni razvitak | K1: Vijećnik 1 | L1: Vijećnik 2 | M1: Vijećnik 3 | N1: Vijećnik 4 | O1: Vijećnik 5 | P1: Vijećnik 6 | Q1: Vijećnik 7 | R1: Ukupno bodova | S1: Dodijeljeni iznos 1 | T1: Ispravljeni iznos 1 | U1: Dodijeljeni iznos 2 | V1: Ispravljeni iznos 2 | W1: Dodijeljeni iznos 3 | X1: Ispravljeni iznos 3 | Y1: Usporedno ocjenjivanje | Z1: Ukupno za nakladnika | AA1: Minimalno trajanje (min) | AB1: Broj emisija | AD1: Popis nakladnika kojima sudodijeljena sredstva
A2: CIK DR. BOŽO MILANOVIĆ d.o.o. | B2: Ostvarivanje prava građana na javno informiranje | C2: VIJESTI DANA | E2: 232161.01 | F2: #REF! | G2: #REF! | K2: 15 | L2: 15 | M2: 15 | N2: 6 | O2: 14 | P2: 9 | R2: 74 | S2: 35900.815 | T2: 35900.815 | U2: #REF! | V2: #REF! | W2: 0 | X2: 0 | AA2: 20 | AB2: 365 | AD2: CIK DR. BOŽO MILANOVIĆ d.o.o.
A3: CIK DR. BOŽO MILANOVIĆ d.o.o. | B3: Ostvarivanje prava građana na javno informiranje | C3: PONEDJELJKOM OTVORENO | E3: 48773.88 | F3: #REF! | G3: #REF! | K3: 15 | L3: 13 | M3: 5 | N3: 4 | O3: 10 | P3: 8 | R3: 55 | S3: 26683.038 | T3: 26683.038 | U3: #REF! | V3: #REF! | W3: 0 | X3: 0 | AA3: 30 | AB3: 52 | AD3: CROATA d.o.o.
A4: CIK DR. BOŽO MILANOVIĆ d.o.o. | B4: Poticanje kulturne raznolikosti i njegovanja baštine | C4: DRAGA NAM JE ISTRA | E4: 64079.84 | F4: #REF! | G4: #REF! | K4: 14 | L4: 15 | M4: 10 | N4: 5 | O4: 12 | P4: 8 | R4: 64 | S4: 31049.353 | T4: 31049.353 | U4: #REF! | V4: #REF! | W4: 0 | X4: 0 | AA4: 30 | AB4: 52 | AD4: DIFUZIJA d.o.o.
A5: CIK DR. BOŽO MILANOVIĆ d.o.o. | B5: Razvoj odgoja, obrazovanja, znanosti i umjetnosti | C5: ZNANSTVENI LEKSIKON | E5: 40978.63 | F5: #REF! | G5: #REF! | K5: 12 | L5: 12 | M5: 12 | N5: 4 | O5: 12 | P5: 8 | R5: 60 | S5: 29108.769 | T5: 29108.769 | U5: #REF! | V5: #REF! | W5: 0 | X5: 0 | AA5: 30 | AB5: 47 | AD5: DTR TV I RADIO DIFUZIJA d.o.o.
A6: CIK DR. BOŽO MILANOVIĆ d.o.o. | B6: Posebni programi na područjima od posebne državne skrbi | C6: NEOBIČNA ISTRA (NPL) | E6: 30210.35 | F6: #REF! | G6: #REF! | K6: 5 | L6: 12 | M6: 4 | N6: 3 | O6: 12 | P6: 7 | R6: 43 | S6: 20861.284 | T6: 20861.284 | U6: #REF! | V6: #REF! | W6: 0 | X6: 0 | AA6: 15 | AB6: 12 | AD6: E-RADIO d.o.o.
A7: CIK DR. BOŽO MILANOVIĆ d.o.o. | B7: Nacionalne manjine u Republici Hrvatskoj | C7: MICROFONO APERTO | E7: 40668.34 | F7: #REF! | G7: #REF! | K7: 13 | L7: 15 | M7: 10 | N7: 5 | O7: 8 | P7: 8 | R7: 59 | S7: 28623.622 | T7: 28623.622 | U7: #REF! | V7: #REF! | W7: 0 | X7: 0 | AA7: 30 | AB7: 53 | AD7: FAKULTET POLITIČKIH ZNANOSTI - RADIO STUDENT
A8: CIK DR. BOŽO MILANOVIĆ d.o.o. | B8: Poticanje stvaralaštva na narječjima hrvatskog jezika | C8: OSJEĆANJE VREMENA (MO) | E8: 27789.6 | F8: #REF! | G8: #REF! | K8: 5 | L8: 12 | M8: 7 | N8: 3 | O8: 10 | P8: 4 | R8: 41 | S8: 19890.992 | T8: 19890.992 | U8: #REF! | V8: #REF! | W8: 0 | X8: 0 | AA8: 30 | AB8: 15 | AD8: GLAS PODRAVINE d.o.o.
A9: CIK DR. BOŽO MILANOVIĆ d.o.o. | B9: Poticanje razvoja svijesti o ravnopravnosti spolova | C9: ŽIVOT ŽENE | E9: 38661.47 | F9: #REF! | G9: #REF! | K9: 7 | L9: 12 | M9: 10 | N9: 4 | O9: 10 | P9: 5 | R9: 48 | S9: 23287.015 | T9: 23287.015 | U9: #REF! | V9: #REF! | W9: 0 | X9: 0 | AA9: 15 | AB9: 47 | AD9: GLAS SLAVONIJE D.D
A10: CIK DR. BOŽO MILANOVIĆ d.o.o. | B10: Kvalitetni programi za djecu i mlade | C10: MOJA GENERACIJA | E10: 21285.82 | F10: #REF! | G10: #REF! | K10: 11 | L10: 15 | M10: 3 | N10: 3 | O10: 10 | P10: 6 | R10: 48 | S10: 23287.015 | T10: 21285.82 | U10: #REF! | V10: #REF! | W10: 0 | X10: 0 | AA10: 20 | AB10: 30 | AD10: GRADSKI RADIO d.o.o.
A11: CROATA d.o.o. | B11: Ostvarivanje prava građana na javno informiranje | C11: BNM INFO | E11: 25000 | F11: #REF! | G11: #REF! | K11: 0 | L11: 0 | M11: 0 | N11: 0 | O11: 0 | P11: 0 | R11: 0 | S11: 0 | T11: 0 | U11: #REF! | V11: #REF! | W11: 0 | X11: 0 | AA11: 2xdn 5-8min | AB11: 602 | AD11: HILARIS d.o.o.
A12: CROATA d.o.o. | B12: Ostvarivanje prava građana na javno informiranje | C12: AKTUALNI SAT | E12: 10000 | F12: #REF! | G12: #REF! | K12: 8 | L12: 8 | M12: 6 | N12: 3 | O12: 10 | P12: 4 | R12: 39 | S12: 18920.7 | T12: 10000 | U12: #REF! | V12: #REF! | W12: 0 | X12: 0 | AA12: 30 | AB12: 38 | AD12: HIT RADIO d.o.o.
A13: CROATA d.o.o. | B13: Poticanje kulturne raznolikosti i njegovanja baštine | C13: VRIJEME JE ZA KLAPE | E13: 55000 | F13: #REF! | G13: #REF! | K13: 5 | L13: 8 | M13: 8 | N13: 4 | O13: 9 | P13: 5 | R13: 39 | S13: 18920.7 | T13: 18920.7 | U13: #REF! | V13: #REF! | W13: 0 | X13: 0 | AA13: 15 | AB13: 12 | AD13: HRVATSKI KATOLIČKI RADIO
A14: CROATA d.o.o. | B14: Razvoj odgoja, obrazovanja, znanosti i umjetnosti | C14: ČITAJMO ZAJEDNO | E14: 10000 | F14: #REF! | G14: #REF! | K14: 3 | L14: 7 | M14: 4 | N14: 3 | O14: 11 | P14: 4 | R14: 32 | S14: 15524.677 | T14: 10000 | U14: #REF! | V14: #REF! | W14: 0 | X14: 0 | AA14: 15 | AB14: 12 | AD14: HRVATSKI RADIO ČAKOVEC d.o.o.
A15: CROATA d.o.o. | B15: Posebni programi na područjima od posebne državne skrbi | C15: Naziv emisije nije upisan | E15: Nije upisano | F15: #REF! | G15: #REF! | R15: 0 | S15: 0 | T15: 0 | U15: #REF! | V15: #REF! | W15: 0 | X15: 0 | AD15: HRVATSKI RADIO OTOČAC d.o.o.
A16: CROATA d.o.o. | B16: Nacionalne manjine u Republici Hrvatskoj | C16: Naziv emisije nije upisan | E16: Nije upisano | F16: #REF! | G16: #REF! | R16: 0 | S16: 0 | T16: 0 | U16: #REF! | V16: #REF! | W16: 0 | X16: 0 | AD16: HRVATSKI RADIO VUKOVAR d.o.o.
A17: CROATA d.o.o. | B17: Poticanje stvaralaštva na narječjima hrvatskog jezika | C17: Naziv emisije nije upisan | E17: Nije upisano | F17: #REF! | G17: #REF! | R17: 0 | S17: 0 | T17: 0 | U17: #REF! | V17: #REF! | W17: 0 | X17: 0 | AD17: HRVATSKI RADIO ŽUPANJA d.o.o.
A18: CROATA d.o.o. | B18: Poticanje razvoja svijesti o ravnopravnosti spolova | C18: Naziv emisije nije upisan | E18: Nije upisano | F18: #REF! | G18: #REF! | R18: 0 | S18: 0 | T18: 0 | U18: #REF! | V18: #REF! | W18: 0 | X18: 0 | AD18: ILOK TON d.o.o.
A19: CROATA d.o.o. | B19: Kvalitetni programi za djecu i mlade | C19: BLJESKALICA | E19: 20000 | F19: #REF! | G19: #REF! | K19: 2 | L19: 8 | M19: 8 | N19: 3 | O19: 11 | P19: 5 | R19: 37 | S19: 17950.407 | T19: 17950.407 | U19: #REF! | V19: #REF! | W19: 0 | X19: 0 | AA19: 35 | AB19: 20 | AD19: INFANTINFO d.o.o.
A20: DIFUZIJA d.o.o. | B20: Ostvarivanje prava građana na javno informiranje | C20: DUNAV INFO | E20: 40000 | F20: #REF! | G20: #REF! | K20: 12 | L20: 7 | M20: 8 | N20: 4 | O20: 11 | P20: 7 | R20: 49 | S20: 23772.161 | T20: 23772.161 | U20: #REF! | V20: #REF! | W20: 0 | X20: 0 | AA20: 5 | AB20: 313 | AD20: INFORMATIVNI CENTAR - HRVATSKA RADIO POSTAJA ČAZMA d.o.o.
A21: DIFUZIJA d.o.o. | B21: Ostvarivanje prava građana na javno informiranje | C21: OD INFORMACIJE DO SPOZNAJE | E21: 20000 | F21: #REF! | G21: #REF! | K21: 11 | L21: 10 | M21: 7 | N21: 3 | O21: 9 | P21: 6 | R21: 46 | S21: 22316.723 | T21: 20000 | U21: #REF! | V21: #REF! | W21: 0 | X21: 0 | AA21: 30 | AB21: 48 | AD21: INFORMATIVNI CENTAR BJELOVAR d.o.o.
A22: DIFUZIJA d.o.o. | B22: Poticanje kulturne raznolikosti i njegovanja baštine | C22: RIJEČ PRAVOSLAVLJA | E22: 25000 | F22: #REF! | G22: #REF! | K22: 3 | L22: 7 | M22: 2 | N22: 1 | O22: 7 | P22: 7 | R22: 27 | S22: 13098.946 | T22: 13098.946 | U22: #REF! | V22: #REF! | W22: 0 | X22: 0 | AA22: 30 | AB22: 52 | AD22: INFORMATIVNI CENTAR VIROVITICA d.o.o.
A23: DIFUZIJA d.o.o. | B23: Razvoj odgoja, obrazovanja, znanosti i umjetnosti | C23: KULTUROGRAM | E23: 22000 | F23: #REF! | G23: #REF! | K23: 4 | L23: 8 | M23: 5 | N23: 3 | O23: 9 | P23: 5 | R23: 34 | S23: 16494.969 | T23: 16494.969 | U23: #REF! | V23: #REF! | W23: 0 | X23: 0 | AA23: 20 | AB23: 12 | AD23: INFORMATIVNI CENTAR ZAPREŠIĆ d.o.o.
A24: DIFUZIJA d.o.o. | B24: Posebni programi na područjima od posebne državne skrbi | C24: RADIJSKE MANIFESTACIJE | E24: 24000 | F24: #REF! | G24: #REF! | K24: 6 | L24: 8 | M24: 7 | N24: 3 | O24: 10 | P24: 6 | R24: 40 | S24: 19405.846 | T24: 19405.846 | U24: #REF! | V24: #REF! | W24: 0 | X24: 0 | AA24: 30 | AB24: 15 | AD24: JADRANKA D.D. - RADIO MALI LOŠINJ
A25: DIFUZIJA d.o.o. | B25: Nacionalne manjine u Republici Hrvatskoj | C25: SPEKTAR | E25: 26000 | F25: #REF! | G25: #REF! | K25: 6 | L25: 7 | M25: 4 | N25: 3 | O25: 10 | P25: 7 | R25: 37 | S25: 17950.407 | T25: 17950.407 | U25: #REF! | V25: #REF! | W25: 0 | X25: 0 | AA25: 30 | AB25: 12 | AD25: JADRANSKA RADIJSKA MREŽA d.o.o.
A26: DIFUZIJA d.o.o. | B26: Poticanje stvaralaštva na narječjima hrvatskog jezika | C26: Naziv emisije nije upisan | E26: Nije upisano | F26: #REF! | G26: #REF! | R26: 0 | S26: 0 | T26: 0 | U26: #REF! | V26: #REF! | W26: 0 | X26: 0 | AD26: JADRANSKI RADIO d.o.o.
A27: DIFUZIJA d.o.o. | B27: Poticanje razvoja svijesti o ravnopravnosti spolova | C27: FEMINA | E27: 21000 | F27: #REF! | G27: #REF! | K27: 0 | L27: 0 | M27: 0 | N27: 0 | O27: 0 | P27: 0 | R27: 0 | S27: 0 | T27: 0 | U27: #REF! | V27: #REF! | W27: 0 | X27: 0 | AA27: 1xmj 20min | AB27: 12 | AD27: JANUS D.O.O.
A28: DIFUZIJA d.o.o. | B28: Kvalitetni programi za djecu i mlade | C28: INICIJATIVA | E28: 22000 | F28: #REF! | G28: #REF! | K28: 5 | L28: 9 | M28: 4 | N28: 2 | O28: 8 | P28: 5 | R28: 33 | S28: 16009.823 | T28: 16009.823 | U28: #REF! | V28: #REF! | W28: 0 | X28: 0 | AA28: 30 | AB28: 12 | AD28: KRUGOVAL 93,1 MHZ d.o.o.
A29: DTR TV I RADIO DIFUZIJA d.o.o. | B29: Ostvarivanje prava građana na javno informiranje | C29: DANAS U ZONI | E29: 13500 | F29: #REF! | G29: #REF! | K29: 6 | L29: 8 | M29: 10 | N29: 3 | O29: 9 | P29: 7 | R29: 43 | S29: 20861.284 | T29: 13500 | U29: #REF! | V29: #REF! | W29: 0 | X29: 0 | AA29: 5 | AB29: 250 | AD29: KULT RADIO d.o.o.
A30: DTR TV I RADIO DIFUZIJA d.o.o. | B30: Ostvarivanje prava građana na javno informiranje | C30: NA KANTUNU | E30: 12500 | F30: #REF! | G30: #REF! | K30: 0 | L30: 0 | M30: 0 | N30: 0 | O30: 0 | P30: 0 | R30: 0 | S30: 0 | T30: 0 | U30: #REF! | V30: #REF! | W30: 0 | X30: 0 | AA30: 2xmj 15min | AB30: 25 | AD30: MATIS d.o.o.
A31: DTR TV I RADIO DIFUZIJA d.o.o. | B31: Poticanje kulturne raznolikosti i njegovanja baštine | C31: KULT-ZONE | E31: 11500 | F31: #REF! | G31: #REF! | K31: 6 | L31: 7 | M31: 3 | N31: 3 | O31: 11 | P31: 6 | R31: 36 | S31: 17465.261 | T31: 11500 | U31: #REF! | V31: #REF! | W31: 0 | X31: 0 | AA31: 15 | AB31: 48 | AD31: MEA MEDIA d.o.o.
A32: DTR TV I RADIO DIFUZIJA d.o.o. | B32: Razvoj odgoja, obrazovanja, znanosti i umjetnosti | C32: DRUGA STRANA PRIČE | E32: 15500 | F32: #REF! | G32: #REF! | K32: 1 | L32: 6 | M32: 5 | N32: 3 | O32: 10 | P32: 5 | R32: 30 | S32: 14554.384 | T32: 14554.384 | U32: #REF! | V32: #REF! | W32: 0 | X32: 0 | AA32: 15 | AB32: 22 | AD32: MEDIA-MIX-RADIO 105 d.o.o.
A33: DTR TV I RADIO DIFUZIJA d.o.o. | B33: Posebni programi na područjima od posebne državne skrbi | C33: ZAROZGAJMO NA ĆIĆARIJI | E33: 15500 | F33: #REF! | G33: #REF! | K33: 3 | L33: 9 | M33: 6 | N33: 2 | O33: 12 | P33: 7 | R33: 39 | S33: 18920.7 | T33: 15500 | U33: #REF! | V33: #REF! | W33: 0 | X33: 0 | AA33: 15 | AB33: 22 | AD33: MEGAMIX d.o.o.
A34: DTR TV I RADIO DIFUZIJA d.o.o. | B34: Nacionalne manjine u Republici Hrvatskoj | C34: DOPO DOMENICA | E34: 11000 | F34: #REF! | G34: #REF! | K34: 0 | L34: 9 | M34: 6 | N34: 4 | O34: 8 | P34: 4 | R34: 31 | S34: 15039.53 | T34: 11000 | U34: #REF! | V34: #REF! | W34: 0 | X34: 0 | AA34: 15 | AB34: 50 | AD34: MIROSLAV KRALJEVIĆ d.o.o.
A35: DTR TV I RADIO DIFUZIJA d.o.o. | B35: Poticanje stvaralaštva na narječjima hrvatskog jezika | C35: JEN KVART DUMAĆE BESEDE | E35: 21000 | F35: #REF! | G35: #REF! | K35: 8 | L35: 9 | M35: 7 | N35: 3 | O35: 10 | P35: 6 | R35: 43 | S35: 20861.284 | T35: 20861.284 | U35: #REF! | V35: #REF! | W35: 0 | X35: 0 | AA35: 15 | AB35: 51 | AD35: MORSKI ZVUK d.o.o.
A36: DTR TV I RADIO DIFUZIJA d.o.o. | B36: Poticanje razvoja svijesti o ravnopravnosti spolova | C36: JEDNAKA MOGUĆNOST | E36: 13500 | F36: #REF! | G36: #REF! | K36: 2 | L36: 7 | M36: 4 | N36: 2 | O36: 11 | P36: 5 | R36: 31 | S36: 15039.53 | T36: 13500 | U36: #REF! | V36: #REF! | W36: 0 | X36: 0 | AA36: 15 | AB36: 25 | AD36: MOSLAVAČKI LIST d.o.o.
A37: DTR TV I RADIO DIFUZIJA d.o.o. | B37: Kvalitetni programi za djecu i mlade | C37: OBITELJSKA OLIMPIJADA | E37: 13500 | F37: #REF! | G37: #REF! | K37: 3 | L37: 8 | M37: 7 | N37: 3 | O37: 10 | P37: 5 | R37: 36 | S37: 17465.261 | T37: 13500 | U37: #REF! | V37: #REF! | W37: 0 | X37: 0 | AA37: 15 | AB37: 25 | AD37: MT ETER D.O.O.
A38: E-RADIO d.o.o. | B38: Ostvarivanje prava građana na javno informiranje | C38: PULS DANA | E38: 61924.63 | F38: #REF! | G38: #REF! | K38: 0 | L38: 0 | M38: 0 | N38: 0 | O38: 0 | P38: 0 | R38: 0 | S38: 0 | T38: 0 | U38: #REF! | V38: #REF! | W38: 0 | X38: 0 | AA38: 20 | AB38: 250 | AD38: NOVI RADIO - ZADAR d.o.o.
A39: E-RADIO d.o.o. | B39: Ostvarivanje prava građana na javno informiranje | C39: VIJESTI CITY RADIJA | E39: 93515.33 | F39: #REF! | G39: #REF! | K39: 14 | L39: 7 | M39: 12 | N39: 2 | O39: 11 | P39: 6 | R39: 52 | S39: 25227.599 | T39: 25227.599 | U39: #REF! | V39: #REF! | W39: 0 | X39: 0 | AA39: 4 | AB39: 3750 | AD39: NOVI RADIO d.o.o.
A40: E-RADIO d.o.o. | B40: Poticanje kulturne raznolikosti i njegovanja baštine | C40: KULTURNI GRAD | E40: 23660.28 | F40: #REF! | G40: #REF! | K40: 12 | L40: 3 | M40: 12 | N40: 2 | O40: 11 | P40: 6 | R40: 46 | S40: 22316.723 | T40: 22316.723 | U40: #REF! | V40: #REF! | W40: 0 | X40: 0 | AA40: 90 | AB40: 30 | AD40: NOVOSTI d.o.o.
...
