Workbook
Name Emisije: Sheet2!$A$11:$A$2092
Name Lista1: Sheet3!$A$2:$A$28
Name Nak: Sheet3!$AD$2:$AD$126
Name Nakladnici: Sheet3!$AD$2:$AD$115
Name Trajanje: Sheet2!$D$11:$D$2406

Sheet Sheet2
A1: Odaberite ime nakladnika: | B1: Kategorija | C1: Naziv emisije | D1: Broj dnevnih ponavljanja emisije ( upisati samo ako se emitira više od jedne emisije dnevno) | E1: Napomena: U tablici se nalazi popis svih emisija kojima su nakladnici aplicirali na fond za pluralizam, a dužni su ispuniti podatke samo o emisijama za koje su im dodijeljena sredstva!
A2: JADRANSKA RADIJSKA MREŽA d.o.o. | B2: Poticanje kulturne raznolikosti i njegovanja baštine | C2: {=INDEX(Sheet3!$A$2:$C$1135, SMALL(IF(Sheet3!$A$2:$C$1135=$A$2,ROW(Sheet3!$A$2:$C$1135)),ROW(2:2)),3)} -> KLAPO MOJA
B3: Razvoj odgoja, obrazovanja, znanosti i umjetnosti | C3: {=INDEX(Sheet3!$A$2:$C$1135, SMALL(IF(Sheet3!$A$2:$C$1135=$A$2,ROW(Sheet3!$A$2:$C$1135)),ROW(3:3)),3)} -> VIŠKE RIČI
B4: Posebni programi na područjima od posebne državne skrbi | C4: {=INDEX(Sheet3!$A$2:$C$1135, SMALL(IF(Sheet3!$A$2:$C$1135=$A$2,ROW(Sheet3!$A$2:$C$1135)),ROW(4:4)),3)} -> FEŠTA O' MORA
B5: Nacionalne manjine u Republici Hrvatskoj | C5: {=INDEX(Sheet3!$A$2:$C$1135, SMALL(IF(Sheet3!$A$2:$C$1135=$A$2,ROW(Sheet3!$A$2:$C$1135)),ROW(5:5)),3)} -> Naziv emisije nije upisan
B6: Poticanje stvaralaštva na narječjima hrvatskog jezika | C6: {=INDEX(Sheet3!$A$2:$C$1135, SMALL(IF(Sheet3!$A$2:$C$1135=$A$2,ROW(Sheet3!$A$2:$C$1135)),ROW(6:6)),3)} -> ŠKOJI
B7: Poticanje razvoja svijesti o ravnopravnosti spolova | C7: {=INDEX(Sheet3!$A$2:$C$1135, SMALL(IF(Sheet3!$A$2:$C$1135=$A$2,ROW(Sheet3!$A$2:$C$1135)),ROW(7:7)),3)} -> ŠINJORE
B8: Kvalitetni programi za djecu i mlade | C8: {=INDEX(Sheet3!$A$2:$C$1135, SMALL(IF(Sheet3!$A$2:$C$1135=$A$2,ROW(Sheet3!$A$2:$C$1135)),ROW(8:8)),3)} -> DICA SA ŠKOJA
A10: Naziv emisije | B10: Datum emitiranja | C10: Termin emitiranja | D10: Ukupno trajanje ( u minutama)

Sheet Sheet1
A1: Nakladnik | B1: Naziv emisije | C1: Planirani broj emitiranja | D1: Planirano minimalno trajanje | E1: Realizirano emisija | F1: Koeficijent realizacije | G1: Prosječno trajanje | H1: Broj emisija kraćeg trajanja od planiranog
A2: =Sheet2!A2 -> JADRANSKA RADIJSKA MREŽA d.o.o. | B2: =Sheet2!C2 -> KLAPO MOJA | C2: {=INDEX(Sheet3!$A$2:$AB$1135, SMALL(IF(Sheet3!$A$2:$A$1135=$A$2,ROW(Sheet3!$A$2:$AB$1135)),ROW(2:2)),28)} -> 52 | D2: {=INDEX(Sheet3!$A$2:$AB$1135, SMALL(IF(Sheet3!$A$2:$A$1135=$A$2,ROW(Sheet3!$A$2:$AB$1135)),ROW(2:2)),27)} -> 15 | E2: =IF(Sheet2!D2="",COUNTIF(Sheet2!A:A,Sheet1!B2),COUNTIF(Sheet2!A:A,Sheet1!B2)*Sheet2!D2) -> 0 | F2: =IF(B2="Naziv emisije nije upisan","",E2/C2) -> 0 | G2: =IF(B2="Naziv emisije nije upisan","",SUMIF(Sheet2!A:A,Sheet1!B2,Sheet2!D:D)/E2) -> #DIV/0! | H2: =COUNTIFS(Sheet2!A:A,B2,Sheet2!D:D,"<"&D2) -> 0
B3: =Sheet2!C3 -> VIŠKE RIČI | C3: {=INDEX(Sheet3!$A$2:$AB$1135, SMALL(IF(Sheet3!$A$2:$A$1135=$A$2,ROW(Sheet3!$A$2:$AB$1135)),ROW(3:3)),28)} -> 36 | D3: {=INDEX(Sheet3!$A$2:$AB$1135, SMALL(IF(Sheet3!$A$2:$A$1135=$A$2,ROW(Sheet3!$A$2:$AB$1135)),ROW(3:3)),27)} -> 15 | E3: =IF(Sheet2!D3="",COUNTIF(Sheet2!A:A,Sheet1!B3),COUNTIF(Sheet2!A:A,Sheet1!B3)*Sheet2!D3) -> 0 | F3: =IF(B3="Naziv emisije nije upisan","",E3/C3) -> 0 | G3: =IF(B3="Naziv emisije nije upisan","",SUMIF(Sheet2!A:A,Sheet1!B3,Sheet2!D:D)/E3) -> #DIV/0! | H3: =COUNTIFS(Sheet2!A:A,B3,Sheet2!D:D,"<"&D3) -> 0
B4: =Sheet2!C4 -> FEŠTA O' MORA | C4: {=INDEX(Sheet3!$A$2:$AB$1135, SMALL(IF(Sheet3!$A$2:$A$1135=$A$2,ROW(Sheet3!$A$2:$AB$1135)),ROW(4:4)),28)} -> 14 | D4: {=INDEX(Sheet3!$A$2:$AB$1135, SMALL(IF(Sheet3!$A$2:$A$1135=$A$2,ROW(Sheet3!$A$2:$AB$1135)),ROW(4:4)),27)} -> 10 | E4: =IF(Sheet2!D4="",COUNTIF(Sheet2!A:A,Sheet1!B4),COUNTIF(Sheet2!A:A,Sheet1!B4)*Sheet2!D4) -> 0 | F4: =IF(B4="Naziv emisije nije upisan","",E4/C4) -> 0 | G4: =IF(B4="Naziv emisije nije upisan","",SUMIF(Sheet2!A:A,Sheet1!B4,Sheet2!D:D)/E4) -> #DIV/0! | H4: =COUNTIFS(Sheet2!A:A,B4,Sheet2!D:D,"<"&D4) -> 0
B5: =Sheet2!C5 -> Naziv emisije nije upisan | C5: {=INDEX(Sheet3!$A$2:$AB$1135, SMALL(IF(Sheet3!$A$2:$A$1135=$A$2,ROW(Sheet3!$A$2:$AB$1135)),ROW(5:5)),28)} -> 0 | D5: {=INDEX(Sheet3!$A$2:$AB$1135, SMALL(IF(Sheet3!$A$2:$A$1135=$A$2,ROW(Sheet3!$A$2:$AB$1135)),ROW(5:5)),27)} -> 0 | E5: =IF(Sheet2!D5="",COUNTIF(Sheet2!A:A,Sheet1!B5),COUNTIF(Sheet2!A:A,Sheet1!B5)*Sheet2!D5) -> 0 | F5: =IF(B5="Naziv emisije nije upisan","",E5/C5) | G5: =IF(B5="Naziv emisije nije upisan","",SUMIF(Sheet2!A:A,Sheet1!B5,Sheet2!D:D)/E5) | H5: =COUNTIFS(Sheet2!A:A,B5,Sheet2!D:D,"<"&D5) -> 0
B6: =Sheet2!C6 -> ŠKOJI | C6: {=INDEX(Sheet3!$A$2:$AB$1135, SMALL(IF(Sheet3!$A$2:$A$1135=$A$2,ROW(Sheet3!$A$2:$AB$1135)),ROW(6:6)),28)} -> 52 | D6: {=INDEX(Sheet3!$A$2:$AB$1135, SMALL(IF(Sheet3!$A$2:$A$1135=$A$2,ROW(Sheet3!$A$2:$AB$1135)),ROW(6:6)),27)} -> 1xtj 15min | E6: =IF(Sheet2!D6="",COUNTIF(Sheet2!A:A,Sheet1!B6),COUNTIF(Sheet2!A:A,Sheet1!B6)*Sheet2!D6) -> 0 | F6: =IF(B6="Naziv emisije nije upisan","",E6/C6) -> 0 | G6: =IF(B6="Naziv emisije nije upisan","",SUMIF(Sheet2!A:A,Sheet1!B6,Sheet2!D:D)/E6) -> #DIV/0! | H6: =COUNTIFS(Sheet2!A:A,B6,Sheet2!D:D,"<"&D6) -> 0
B7: =Sheet2!C7 -> ŠINJORE | C7: {=INDEX(Sheet3!$A$2:$AB$1135, SMALL(IF(Sheet3!$A$2:$A$1135=$A$2,ROW(Sheet3!$A$2:$AB$1135)),ROW(7:7)),28)} -> 48 | D7: {=INDEX(Sheet3!$A$2:$AB$1135, SMALL(IF(Sheet3!$A$2:$A$1135=$A$2,ROW(Sheet3!$A$2:$AB$1135)),ROW(7:7)),27)} -> 1xtj 10-15min | E7: =IF(Sheet2!D7="",COUNTIF(Sheet2!A:A,Sheet1!B7),COUNTIF(Sheet2!A:A,Sheet1!B7)*Sheet2!D7) -> 0 | F7: =IF(B7="Naziv emisije nije upisan","",E7/C7) -> 0 | G7: =IF(B7="Naziv emisije nije upisan","",SUMIF(Sheet2!A:A,Sheet1!B7,Sheet2!D:D)/E7) -> #DIV/0! | H7: =COUNTIFS(Sheet2!A:A,B7,Sheet2!D:D,"<"&D7) -> 0
B8: =Sheet2!C8 -> DICA SA ŠKOJA | C8: {=INDEX(Sheet3!$A$2:$AB$1135, SMALL(IF(Sheet3!$A$2:$A$1135=$A$2,ROW(Sheet3!$A$2:$AB$1135)),ROW(8:8)),28)} -> 46 | D8: {=INDEX(Sheet3!$A$2:$AB$1135, SMALL(IF(Sheet3!$A$2:$A$1135=$A$2,ROW(Sheet3!$A$2:$AB$1135)),ROW(8:8)),27)} -> 10 | E8: =IF(Sheet2!D8="",COUNTIF(Sheet2!A:A,Sheet1!B8),COUNTIF(Sheet2!A:A,Sheet1!B8)*Sheet2!D8) -> 0 | F8: =IF(B8="Naziv emisije nije upisan","",E8/C8) -> 0 | G8: =IF(B8="Naziv emisije nije upisan","",SUMIF(Sheet2!A:A,Sheet1!B8,Sheet2!D:D)/E8) -> #DIV/0! | H8: =COUNTIFS(Sheet2!A:A,B8,Sheet2!D:D,"<"&D8) -> 0

Sheet Sheet3
A1: Naziv nakladnika | B1: Kategorija programa | C1: Naziv Emisije | D1: Ukupan prihod u 2011. godini | E1: Traženi iznos od AEM-a | F1: Trajanje emisije (u minutama) | G1: Prosječna cijena minute | H1: Značenje audiovizualnog i/ili radijskog programa za ostvarenje javnog interesa | I1: Kvaliteta i sadržajna inovativnost ponuđenog programa audiovizualnog i/ili radijskog programa | J1: Interes za opći, odnosno lokalni ili regionalni kulturni razvitak | K1: Vijećnik 1 | L1: Vijećnik 2 | M1: Vijećnik 3 | N1: Vijećnik 4 | O1: Vijećnik 5 | P1: Vijećnik 6 | Q1: Vijećnik 7 | R1: Ukupno bodova | S1: Dodijeljeni iznos 1 | T1: Ispravljeni iznos 1 | U1: Dodijeljeni iznos 2 | V1: Ispravljeni iznos 2 | W1: Dodijeljeni iznos 3 | X1: Ispravljeni iznos 3 | Y1: Usporedno ocjenjivanje | Z1: Ukupno za nakladnika | AA1: Minimalno trajanje (min) | AB1: Broj emisija | AD1: Popis nakladnika kojima sudodijeljena sredstva
A2: CIK DR. BOŽO MILANOVIĆ d.o.o. | B2: Ostvarivanje prava građana na javno informiranje | C2: VIJESTI DANA | E2: 232161.01 | F2: #REF! | G2: #REF! | K2: 15 | L2: 15 | M2: 15 | N2: 6 | O2: 14 | P2: 9 | R2: 74 | S2: 35900.815 | T2: 35900.815 | U2: #REF! | V2: #REF! | W2: 0 | X2: 0 | AA2: 20 | AB2: 365 | AD2: CIK DR. BOŽO MILANOVIĆ d.o.o.
A3: CIK DR. BOŽO MILANOVIĆ d.o.o. | B3: Ostvarivanje prava građana na javno informiranje | C3: PONEDJELJKOM OTVORENO | E3: 48773.88 | F3: #REF! | G3: #REF! | K3: 15 | L3: 13 | M3: 5 | N3: 4 | O3: 10 | P3: 8 | R3: 55 | S3: 26683.038 | T3: 26683.038 | U3: #REF! | V3: #REF! | W3: 0 | X3: 0 | AA3: 30 | AB3: 52 | AD3: CROATA d.o.o.
A4: CIK DR. BOŽO MILANOVIĆ d.o.o. | B4: Poticanje kulturne raznolikosti i njegovanja baštine | C4: DRAGA NAM JE ISTRA | E4: 64079.84 | F4: #REF! | G4: #REF! | K4: 14 | L4: 15 | M4: 10 | N4: 5 | O4: 12 | P4: 8 | R4: 64 | S4: 31049.353 | T4: 31049.353 | U4: #REF! | V4: #REF! | W4: 0 | X4: 0 | AA4: 30 | AB4: 52 | AD4: DIFUZIJA d.o.o.
A5: CIK DR. BOŽO MILANOVIĆ d.o.o. | B5: Razvoj odgoja, obrazovanja, znanosti i umjetnosti | C5: ZNANSTVENI LEKSIKON | E5: 40978.63 | F5: #REF! | G5: #REF! | K5: 12 | L5: 12 | M5: 12 | N5: 4 | O5: 12 | P5: 8 | R5: 60 | S5: 29108.769 | T5: 29108.769 | U5: #REF! | V5: #REF! | W5: 0 | X5: 0 | AA5: 30 | AB5: 47 | AD5: DTR TV I RADIO DIFUZIJA d.o.o.
A6: CIK DR. BOŽO MILANOVIĆ d.o.o. | B6: Posebni programi na područjima od posebne državne skrbi | C6: NEOBIČNA ISTRA (NPL) | E6: 30210.35 | F6: #REF! | G6: #REF! | K6: 5 | L6: 12 | M6: 4 | N6: 3 | O6: 12 | P6: 7 | R6: 43 | S6: 20861.284 | T6: 20861.284 | U6: #REF! | V6: #REF! | W6: 0 | X6: 0 | AA6: 15 | AB6: 12 | AD6: E-RADIO d.o.o.
A7: CIK DR. BOŽO MILANOVIĆ d.o.o. | B7: Nacionalne manjine u Republici Hrvatskoj | C7: MICROFONO APERTO | E7: 40668.34 | F7: #REF! | G7: #REF! | K7: 13 | L7: 15 | M7: 10 | N7: 5 | O7: 8 | P7: 8 | R7: 59 | S7: 28623.622 | T7: 28623.622 | U7: #REF! | V7: #REF! | W7: 0 | X7: 0 | AA7: 30 | AB7: 53 | AD7: FAKULTET POLITIČKIH ZNANOSTI - RADIO STUDENT
A8: CIK DR. BOŽO MILANOVIĆ d.o.o. | B8: Poticanje stvaralaštva na narječjima hrvatskog jezika | C8: OSJEĆANJE VREMENA (MO) | E8: 27789.6 | F8: #REF! | G8: #REF! | K8: 5 | L8: 12 | M8: 7 | N8: 3 | O8: 10 | P8: 4 | R8: 41 | S8: 19890.992 | T8: 19890.992 | U8: #REF! | V8: #REF! | W8: 0 | X8: 0 | AA8: 30 | AB8: 15 | AD8: GLAS PODRAVINE d.o.o.
A9: CIK DR. BOŽO MILANOVIĆ d.o.o. | B9: Poticanje razvoja svijesti o ravnopravnosti spolova | C9: ŽIVOT ŽENE | E9: 38661.47 | F9: #REF! | G9: #REF! | K9: 7 | L9: 12 | M9: 10 | N9: 4 | O9: 10 | P9: 5 | R9: 48 | S9: 23287.015 | T9: 23287.015 | U9: #REF! | V9: #REF! | W9: 0 | X9: 0 | AA9: 15 | AB9: 47 | AD9: GLAS SLAVONIJE D.D
A10: CIK DR. BOŽO MILANOVIĆ d.o.o. | B10: Kvalitetni programi za djecu i mlade | C10: MOJA GENERACIJA | E10: 21285.82 | F10: #REF! | G10: #REF! | K10: 11 | L10: 15 | M10: 3 | N10: 3 | O10: 10 | P10: 6 | R10: 48 | S10: 23287.015 | T10: 21285.82 | U10: #REF! | V10: #REF! | W10: 0 | X10: 0 | AA10: 20 | AB10: 30 | AD10: GRADSKI RADIO d.o.o.
A11: CROATA d.o.o. | B11: Ostvarivanje prava građana na javno informiranje | C11: BNM INFO | E11: 25000 | F11: #REF! | G11: #REF! | K11: 0 | L11: 0 | M11: 0 | N11: 0 | O11: 0 | P11: 0 | R11: 0 | S11: 0 | T11: 0 | U11: #REF! | V11: #REF! | W11: 0 | X11: 0 | AA11: 2xdn 5-8min | AB11: 602 | AD11: HILARIS d.o.o.
A12: CROATA d.o.o. | B12: Ostvarivanje prava građana na javno informiranje | C12: AKTUALNI SAT | E12: 10000 | F12: #REF! | G12: #REF! | K12: 8 | L12: 8 | M12: 6 | N12: 3 | O12: 10 | P12: 4 | R12: 39 | S12: 18920.7 | T12: 10000 | U12: #REF! | V12: #REF! | W12: 0 | X12: 0 | AA12: 30 | AB12: 38 | AD12: HIT RADIO d.o.o.
A13: CROATA d.o.o. | B13: Poticanje kulturne raznolikosti i njegovanja baštine | C13: VRIJEME JE ZA KLAPE | E13: 55000 | F13: #REF! | G13: #REF! | K13: 5 | L13: 8 | M13: 8 | N13: 4 | O13: 9 | P13: 5 | R13: 39 | S13: 18920.7 | T13: 18920.7 | U13: #REF! | V13: #REF! | W13: 0 | X13: 0 | AA13: 15 | AB13: 12 | AD13: HRVATSKI KATOLIČKI RADIO
A14: CROATA d.o.o. | B14: Razvoj odgoja, obrazovanja, znanosti i umjetnosti | C14: ČITAJMO ZAJEDNO | E14: 10000 | F14: #REF! | G14: #REF! | K14: 3 | L14: 7 | M14: 4 | N14: 3 | O14: 11 | P14: 4 | R14: 32 | S14: 15524.677 | T14: 10000 | U14: #REF! | V14: #REF! | W14: 0 | X14: 0 | AA14: 15 | AB14: 12 | AD14: HRVATSKI RADIO ČAKOVEC d.o.o.
A15: CROATA d.o.o. | B15: Posebni programi na područjima od posebne državne skrbi | C15: Naziv emisije nije upisan | E15: Nije upisano | F15: #REF! | G15: #REF! | R15: 0 | S15: 0 | T15: 0 | U15: #REF! | V15: #REF! | W15: 0 | X15: 0 | AD15: HRVATSKI RADIO OTOČAC d.o.o.
A16: CROATA d.o.o. | B16: Nacionalne manjine u Republici Hrvatskoj | C16: Naziv emisije nije upisan | E16: Nije upisano | F16: #REF! | G16: #REF! | R16: 0 | S16: 0 | T16: 0 | U16: #REF! | V16: #REF! | W16: 0 | X16: 0 | AD16: HRVATSKI RADIO VUKOVAR d.o.o.
A17: CROATA d.o.o. | B17: Poticanje stvaralaštva na narječjima hrvatskog jezika | C17: Naziv emisije nije upisan | E17: Nije upisano | F17: #REF! | G17: #REF! | R17: 0 | S17: 0 | T17: 0 | U17: #REF! | V17: #REF! | W17: 0 | X17: 0 | AD17: HRVATSKI RADIO ŽUPANJA d.o.o.
A18: CROATA d.o.o. | B18: Poticanje razvoja svijesti o ravnopravnosti spolova | C18: Naziv emisije nije upisan | E18: Nije upisano | F18: #REF! | G18: #REF! | R18: 0 | S18: 0 | T18: 0 | U18: #REF! | V18: #REF! | W18: 0 | X18: 0 | AD18: ILOK TON d.o.o.
A19: CROATA d.o.o. | B19: Kvalitetni programi za djecu i mlade | C19: BLJESKALICA | E19: 20000 | F19: #REF! | G19: #REF! | K19: 2 | L19: 8 | M19: 8 | N19: 3 | O19: 11 | P19: 5 | R19: 37 | S19: 17950.407 | T19: 17950.407 | U19: #REF! | V19: #REF! | W19: 0 | X19: 0 | AA19: 35 | AB19: 20 | AD19: INFANTINFO d.o.o.
A20: DIFUZIJA d.o.o. | B20: Ostvarivanje prava građana na javno informiranje | C20: DUNAV INFO | E20: 40000 | F20: #REF! | G20: #REF! | K20: 12 | L20: 7 | M20: 8 | N20: 4 | O20: 11 | P20: 7 | R20: 49 | S20: 23772.161 | T20: 23772.161 | U20: #REF! | V20: #REF! | W20: 0 | X20: 0 | AA20: 5 | AB20: 313 | AD20: INFORMATIVNI CENTAR - HRVATSKA RADIO POSTAJA ČAZMA d.o.o.
A21: DIFUZIJA d.o.o. | B21: Ostvarivanje prava građana na javno informiranje | C21: OD INFORMACIJE DO SPOZNAJE | E21: 20000 | F21: #REF! | G21: #REF! | K21: 11 | L21: 10 | M21: 7 | N21: 3 | O21: 9 | P21: 6 | R21: 46 | S21: 22316.723 | T21: 20000 | U21: #REF! | V21: #REF! | W21: 0 | X21: 0 | AA21: 30 | AB21: 48 | AD21: INFORMATIVNI CENTAR BJELOVAR d.o.o.
A22: DIFUZIJA d.o.o. | B22: Poticanje kulturne raznolikosti i njegovanja baštine | C22: RIJEČ PRAVOSLAVLJA | E22: 25000 | F22: #REF! | G22: #REF! | K22: 3 | L22: 7 | M22: 2 | N22: 1 | O22: 7 | P22: 7 | R22: 27 | S22: 13098.946 | T22: 13098.946 | U22: #REF! | V22: #REF! | W22: 0 | X22: 0 | AA22: 30 | AB22: 52 | AD22: INFORMATIVNI CENTAR VIROVITICA d.o.o.
A23: DIFUZIJA d.o.o. | B23: Razvoj odgoja, obrazovanja, znanosti i umjetnosti | C23: KULTUROGRAM | E23: 22000 | F23: #REF! | G23: #REF! | K23: 4 | L23: 8 | M23: 5 | N23: 3 | O23: 9 | P23: 5 | R23: 34 | S23: 16494.969 | T23: 16494.969 | U23: #REF! | V23: #REF! | W23: 0 | X23: 0 | AA23: 20 | AB23: 12 | AD23: INFORMATIVNI CENTAR ZAPREŠIĆ d.o.o.
A24: DIFUZIJA d.o.o. | B24: Posebni programi na područjima od posebne državne skrbi | C24: RADIJSKE MANIFESTACIJE | E24: 24000 | F24: #REF! | G24: #REF! | K24: 6 | L24: 8 | M24: 7 | N24: 3 | O24: 10 | P24: 6 | R24: 40 | S24: 19405.846 | T24: 19405.846 | U24: #REF! | V24: #REF! | W24: 0 | X24: 0 | AA24: 30 | AB24: 15 | AD24: JADRANKA D.D. - RADIO MALI LOŠINJ
A25: DIFUZIJA d.o.o. | B25: Nacionalne manjine u Republici Hrvatskoj | C25: SPEKTAR | E25: 26000 | F25: #REF! | G25: #REF! | K25: 6 | L25: 7 | M25: 4 | N25: 3 | O25: 10 | P25: 7 | R25: 37 | S25: 17950.407 | T25: 17950.407 | U25: #REF! | V25: #REF! | W25: 0 | X25: 0 | AA25: 30 | AB25: 12 | AD25: JADRANSKA RADIJSKA MREŽA d.o.o.
A26: DIFUZIJA d.o.o. | B26: Poticanje stvaralaštva na narječjima hrvatskog jezika | C26: Naziv emisije nije upisan | E26: Nije upisano | F26: #REF! | G26: #REF! | R26: 0 | S26: 0 | T26: 0 | U26: #REF! | V26: #REF! | W26: 0 | X26: 0 | AD26: JADRANSKI RADIO d.o.o.
A27: DIFUZIJA d.o.o. | B27: Poticanje razvoja svijesti o ravnopravnosti spolova | C27: FEMINA | E27: 21000 | F27: #REF! | G27: #REF! | K27: 0 | L27: 0 | M27: 0 | N27: 0 | O27: 0 | P27: 0 | R27: 0 | S27: 0 | T27: 0 | U27: #REF! | V27: #REF! | W27: 0 | X27: 0 | AA27: 1xmj 20min | AB27: 12 | AD27: JANUS D.O.O.
A28: DIFUZIJA d.o.o. | B28: Kvalitetni programi za djecu i mlade | C28: INICIJATIVA | E28: 22000 | F28: #REF! | G28: #REF! | K28: 5 | L28: 9 | M28: 4 | N28: 2 | O28: 8 | P28: 5 | R28: 33 | S28: 16009.823 | T28: 16009.823 | U28: #REF! | V28: #REF! | W28: 0 | X28: 0 | AA28: 30 | AB28: 12 | AD28: KRUGOVAL 93,1 MHZ d.o.o.
A29: DTR TV I RADIO DIFUZIJA d.o.o. | B29: Ostvarivanje prava građana na javno informiranje | C29: DANAS U ZONI | E29: 13500 | F29: #REF! | G29: #REF! | K29: 6 | L29: 8 | M29: 10 | N29: 3 | O29: 9 | P29: 7 | R29: 43 | S29: 20861.284 | T29: 13500 | U29: #REF! | V29: #REF! | W29: 0 | X29: 0 | AA29: 5 | AB29: 250 | AD29: KULT RADIO d.o.o.
A30: DTR TV I RADIO DIFUZIJA d.o.o. | B30: Ostvarivanje prava građana na javno informiranje | C30: NA KANTUNU | E30: 12500 | F30: #REF! | G30: #REF! | K30: 0 | L30: 0 | M30: 0 | N30: 0 | O30: 0 | P30: 0 | R30: 0 | S30: 0 | T30: 0 | U30: #REF! | V30: #REF! | W30: 0 | X30: 0 | AA30: 2xmj 15min | AB30: 25 | AD30: MATIS d.o.o.
A31: DTR TV I RADIO DIFUZIJA d.o.o. | B31: Poticanje kulturne raznolikosti i njegovanja baštine | C31: KULT-ZONE | E31: 11500 | F31: #REF! | G31: #REF! | K31: 6 | L31: 7 | M31: 3 | N31: 3 | O31: 11 | P31: 6 | R31: 36 | S31: 17465.261 | T31: 11500 | U31: #REF! | V31: #REF! | W31: 0 | X31: 0 | AA31: 15 | AB31: 48 | AD31: MEA MEDIA d.o.o.
A32: DTR TV I RADIO DIFUZIJA d.o.o. | B32: Razvoj odgoja, obrazovanja, znanosti i umjetnosti | C32: DRUGA STRANA PRIČE | E32: 15500 | F32: #REF! | G32: #REF! | K32: 1 | L32: 6 | M32: 5 | N32: 3 | O32: 10 | P32: 5 | R32: 30 | S32: 14554.384 | T32: 14554.384 | U32: #REF! | V32: #REF! | W32: 0 | X32: 0 | AA32: 15 | AB32: 22 | AD32: MEDIA-MIX-RADIO 105 d.o.o.
A33: DTR TV I RADIO DIFUZIJA d.o.o. | B33: Posebni programi na područjima od posebne državne skrbi | C33: ZAROZGAJMO NA ĆIĆARIJI | E33: 15500 | F33: #REF! | G33: #REF! | K33: 3 | L33: 9 | M33: 6 | N33: 2 | O33: 12 | P33: 7 | R33: 39 | S33: 18920.7 | T33: 15500 | U33: #REF! | V33: #REF! | W33: 0 | X33: 0 | AA33: 15 | AB33: 22 | AD33: MEGAMIX d.o.o.
A34: DTR TV I RADIO DIFUZIJA d.o.o. | B34: Nacionalne manjine u Republici Hrvatskoj | C34: DOPO DOMENICA | E34: 11000 | F34: #REF! | G34: #REF! | K34: 0 | L34: 9 | M34: 6 | N34: 4 | O34: 8 | P34: 4 | R34: 31 | S34: 15039.53 | T34: 11000 | U34: #REF! | V34: #REF! | W34: 0 | X34: 0 | AA34: 15 | AB34: 50 | AD34: MIROSLAV KRALJEVIĆ d.o.o.
A35: DTR TV I RADIO DIFUZIJA d.o.o. | B35: Poticanje stvaralaštva na narječjima hrvatskog jezika | C35: JEN KVART DUMAĆE BESEDE | E35: 21000 | F35: #REF! | G35: #REF! | K35: 8 | L35: 9 | M35: 7 | N35: 3 | O35: 10 | P35: 6 | R35: 43 | S35: 20861.284 | T35: 20861.284 | U35: #REF! | V35: #REF! | W35: 0 | X35: 0 | AA35: 15 | AB35: 51 | AD35: MORSKI ZVUK d.o.o.
A36: DTR TV I RADIO DIFUZIJA d.o.o. | B36: Poticanje razvoja svijesti o ravnopravnosti spolova | C36: JEDNAKA MOGUĆNOST | E36: 13500 | F36: #REF! | G36: #REF! | K36: 2 | L36: 7 | M36: 4 | N36: 2 | O36: 11 | P36: 5 | R36: 31 | S36: 15039.53 | T36: 13500 | U36: #REF! | V36: #REF! | W36: 0 | X36: 0 | AA36: 15 | AB36: 25 | AD36: MOSLAVAČKI LIST d.o.o.
A37: DTR TV I RADIO DIFUZIJA d.o.o. | B37: Kvalitetni programi za djecu i mlade | C37: OBITELJSKA OLIMPIJADA | E37: 13500 | F37: #REF! | G37: #REF! | K37: 3 | L37: 8 | M37: 7 | N37: 3 | O37: 10 | P37: 5 | R37: 36 | S37: 17465.261 | T37: 13500 | U37: #REF! | V37: #REF! | W37: 0 | X37: 0 | AA37: 15 | AB37: 25 | AD37: MT ETER D.O.O.
A38: E-RADIO d.o.o. | B38: Ostvarivanje prava građana na javno informiranje | C38: PULS DANA | E38: 61924.63 | F38: #REF! | G38: #REF! | K38: 0 | L38: 0 | M38: 0 | N38: 0 | O38: 0 | P38: 0 | R38: 0 | S38: 0 | T38: 0 | U38: #REF! | V38: #REF! | W38: 0 | X38: 0 | AA38: 20 | AB38: 250 | AD38: NOVI RADIO - ZADAR d.o.o.
A39: E-RADIO d.o.o. | B39: Ostvarivanje prava građana na javno informiranje | C39: VIJESTI CITY RADIJA | E39: 93515.33 | F39: #REF! | G39: #REF! | K39: 14 | L39: 7 | M39: 12 | N39: 2 | O39: 11 | P39: 6 | R39: 52 | S39: 25227.599 | T39: 25227.599 | U39: #REF! | V39: #REF! | W39: 0 | X39: 0 | AA39: 4 | AB39: 3750 | AD39: NOVI RADIO d.o.o.
A40: E-RADIO d.o.o. | B40: Poticanje kulturne raznolikosti i njegovanja baštine | C40: KULTURNI GRAD | E40: 23660.28 | F40: #REF! | G40: #REF! | K40: 12 | L40: 3 | M40: 12 | N40: 2 | O40: 11 | P40: 6 | R40: 46 | S40: 22316.723 | T40: 22316.723 | U40: #REF! | V40: #REF! | W40: 0 | X40: 0 | AA40: 90 | AB40: 30 | AD40: NOVOSTI d.o.o.
A41: E-RADIO d.o.o. | B41: Razvoj odgoja, obrazovanja, znanosti i umjetnosti | C41: ETNO UČIONICA | E41: 20507.52 | F41: #REF! | G41: #REF! | K41: 8 | L41: 4 | M41: 5 | N41: 3 | O41: 10 | P41: 5 | R41: 35 | S41: 16980.115 | T41: 16980.115 | U41: #REF! | V41: #REF! | W41: 0 | X41: 0 | AA41: 60 | AB41: 30 | AD41: OBITELJSKI RADIO IVANIĆ d.o.o.
A42: E-RADIO d.o.o. | B42: Posebni programi na područjima od posebne državne skrbi | C42: VGF VELIKOGORIČKI GLAZBENI FESTIVAL | E42: 19679.38 | F42: #REF! | G42: #REF! | K42: 7 | L42: 4 | M42: 7 | N42: 2 | O42: 9 | P42: 3 | R42: 32 | S42: 15524.677 | T42: 15524.677 | U42: #REF! | V42: #REF! | W42: 0 | X42: 0 | AA42: 120 | AB42: 12 | AD42: OTOČNI RADIO KORNATI d.o.o.
... A50: FAKULTET POLITIČKIH ZNANOSTI - RADIO STUDENT | B50: Razvoj odgoja, obrazovanja, znanosti i umjetnosti | C50: A GDJE SU KITOVI? | E50: 30626.2 | F50: #REF! | G50: #REF! | K50: 8 | L50: 10 | M50: 8 | N50: 7 | O50: 13 | P50: 6 | R50: 52 | S50: 25227.599 | T50: 25227.599 | U50: #REF! | V50: #REF! | W50: 0 | X50: 0 | AA50: 30 | AB50: 30 | AD50: RADIO BANOVINA d.o.o.
A51: FAKULTET POLITIČKIH ZNANOSTI - RADIO STUDENT | B51: Posebni programi na područjima od posebne državne skrbi | C51: Naziv emisije nije upisan | E51: Nije upisano | F51: #REF! | G51: #REF! | R51: 0 | S51: 0 | T51: 0 | U51: #REF! | V51: #REF! | W51: 0 | X51: 0 | AD51: RADIO BANSKA KOSA d.o.o.
A52: FAKULTET POLITIČKIH ZNANOSTI - RADIO STUDENT | B52: Nacionalne manjine u Republici Hrvatskoj | C52: BOGATSTVO RAZLIČITOSTI | E52: 28564.53 | F52: #REF! | G52: #REF! | K52: 2 | L52: 7 | M52: 6 | N52: 6 | O52: 9 | P52: 6 | R52: 36 | S52: 17465.261 | T52: 17465.261 | U52: #REF! | V52: #REF! | W52: 0 | X52: 0 | AA52: 20 | AB52: 20 | AD52: RADIO BARANJA d.o.o.
A53: FAKULTET POLITIČKIH ZNANOSTI - RADIO STUDENT | B53: Poticanje stvaralaštva na narječjima hrvatskog jezika | C53: OD UGLA DO KANTUNA | E53: 28564.53 | F53: #REF! | G53: #REF! | K53: 10 | L53: 7 | M53: 7 | N53: 6 | O53: 7 | P53: 4 | R53: 41 | S53: 19890.992 | T53: 19890.992 | U53: #REF! | V53: #REF! | W53: 0 | X53: 0 | AA53: 20 | AB53: 20 | AD53: RADIO BENKOVAC d.o.o.
A54: FAKULTET POLITIČKIH ZNANOSTI - RADIO STUDENT | B54: Poticanje razvoja svijesti o ravnopravnosti spolova | C54: ŠIRENJE PODRUČJA BORBE | E54: 30626.2 | F54: #REF! | G54: #REF! | K54: 5 | L54: 6 | M54: 12 | N54: 7 | O54: 7 | P54: 7 | R54: 44 | S54: 21346.43 | T54: 21346.43 | U54: #REF! | V54: #REF! | W54: 0 | X54: 0 | AA54: 40 | AB54: 25 | AD54: RADIO BIOKOVO d.o.o.
A55: FAKULTET POLITIČKIH ZNANOSTI - RADIO STUDENT | B55: Kvalitetni programi za djecu i mlade | C55: STUDOMAT | E55: 30626.2 | F55: #REF! | G55: #REF! | K55: 9 | L55: 8 | M55: 10 | N55: 7 | O55: 9 | P55: 3 | R55: 46 | S55: 22316.723 | T55: 22316.723 | U55: #REF! | V55: #REF! | W55: 0 | X55: 0 | AA55: 40 | AB55: 30 | AD55: RADIO BLJESAK d.o.o.
A56: GLAS PODRAVINE d.o.o. | B56: Ostvarivanje prava građana na javno informiranje | C56: VIJESTI RGP-A | E56: 34793.63 | F56: #REF! | G56: #REF! | K56: 11 | L56: 8 | M56: 15 | N56: 4 | O56: 10 | P56: 8 | R56: 56 | S56: 27168.184 | T56: 27168.184 | U56: #REF! | V56: #REF! | W56: 0 | X56: 0 | AA56: 7 | AB56: 726 | AD56: RADIO BROD informiranje i marketing d.o.o.
A57: GLAS PODRAVINE d.o.o. | B57: Ostvarivanje prava građana na javno informiranje | C57: REPORT BY DAY | E57: 20041.57 | F57: #REF! | G57: #REF! | K57: 2 | L57: 7 | M57: 4 | N57: 5 | O57: 10 | P57: 7 | R57: 35 | S57: 16980.115 | T57: 16980.115 | U57: #REF! | V57: #REF! | W57: 0 | X57: 0 | AA57: 30 | AB57: 46 | AD57: RADIO CENTAR - STUDIO POREČ d.o.o.
A58: GLAS PODRAVINE d.o.o. | B58: Poticanje kulturne raznolikosti i njegovanja baštine | C58: ŽIVOT U KOPRIVNICI | E58: 22695.58 | F58: #REF! | G58: #REF! | K58: 2 | L58: 8 | M58: 3 | N58: 5 | O58: 10 | P58: 8 | R58: 36 | S58: 17465.261 | T58: 17465.261 | U58: #REF! | V58: #REF! | W58: 0 | X58: 0 | AA58: 30 | AB58: 45 | AD58: RADIO DALMACIJA d.o.o.
A59: GLAS PODRAVINE d.o.o. | B59: Razvoj odgoja, obrazovanja, znanosti i umjetnosti | C59: BOLJE SUTRA | E59: 23542.88 | F59: #REF! | G59: #REF! | K59: 7 | L59: 10 | M59: 6 | N59: 4 | O59: 10 | P59: 9 | R59: 46 | S59: 22316.723 | T59: 22316.723 | U59: #REF! | V59: #REF! | W59: 0 | X59: 0 | AA59: 30 | AB59: 21 | AD59: RADIO DARUVAR d.o.o.
A60: GLAS PODRAVINE d.o.o. | B60: Posebni programi na područjima od posebne državne skrbi | C60: MANIFESTACIJE PODRAVINE | E60: 24484.21 | F60: #REF! | G60: #REF! | K60: 7 | L60: 8 | M60: 7 | N60: 4 | O60: 10 | P60: 9 | R60: 45 | S60: 21831.576 | T60: 21831.576 | U60: #REF! | V60: #REF! | W60: 0 | X60: 0 | AA60: 30 | AB60: 12 | AD60: RADIO DELTA d.o.o.
A61: GLAS PODRAVINE d.o.o. | B61: Nacionalne manjine u Republici Hrvatskoj | C61: CIVILIAN | E61: 24467.73 | F61: #REF! | G61: #REF! | K61: 7 | L61: 10 | M61: 7 | N61: 4 | O61: 10 | P61: 9 | R61: 47 | S61: 22801.869 | T61: 22801.869 | U61: #REF! | V61: #REF! | W61: 0 | X61: 0 | AA61: 30 | AB61: 46 | AD61: RADIO DONJI MIHOLJAC d.o.o.
A62: GLAS PODRAVINE d.o.o. | B62: Poticanje stvaralaštva na narječjima hrvatskog jezika | C62: KOPRIVNIČKI KRAJ - ETNO BAŠTINA | E62: 19872.43 | F62: #REF! | G62: #REF! | K62: 10 | L62: 8 | M62: 5 | N62: 4 | O62: 11 | P62: 7 | R62: 45 | S62: 21831.576 | T62: 19872.43 | U62: #REF! | V62: #REF! | W62: 0 | X62: 0 | AA62: 45 | AB62: 47 | AD62: RADIO DRAVA d.o.o.
A63: GLAS PODRAVINE d.o.o. | B63: Poticanje razvoja svijesti o ravnopravnosti spolova | C63: ONA I ON | E63: 14872.02 | F63: #REF! | G63: #REF! | K63: 10 | L63: 8 | M63: 5 | N63: 3 | O63: 11 | P63: 4 | R63: 41 | S63: 19890.992 | T63: 14872.02 | U63: #REF! | V63: #REF! | W63: 0 | X63: 0 | AA63: 30 | AB63: 46 | AD63: RADIO ĐAKOVO d.o.o.
A64: GLAS PODRAVINE d.o.o. | B64: Kvalitetni programi za djecu i mlade | C64: VELIKI ODMOR | E64: 14872.02 | F64: #REF! | G64: #REF! | K64: 9 | L64: 8 | M64: 4 | N64: 4 | O64: 9 | P64: 5 | R64: 39 | S64: 18920.7 | T64: 14872.02 | U64: #REF! | V64: #REF! | W64: 0 | X64: 0 | AA64: 30 | AB64: 46 | AD64: RADIO ĐURĐEVAC d.o.o.
A65: GLAS SLAVONIJE D.D | B65: Ostvarivanje prava građana na javno informiranje | C65: VIJESTI | E65: 350000 | F65: #REF! | G65: #REF! | K65: 0 | L65: 0 | M65: 0 | N65: 0 | O65: 0 | P65: 0 | R65: 0 | S65: 0 | T65: 0 | U65: #REF! | V65: #REF! | W65: 0 | X65: 0 | AA65: 45xtj 2min(4-7xdn) | AD65: RADIO GORSKI KOTAR d.o.o.
A66: GLAS SLAVONIJE D.D | B66: Ostvarivanje prava građana na javno informiranje | C66: SLAVONSKI DNEVNIK | E66: 220000 | F66: #REF! | G66: #REF! | K66: 11 | L66: 12 | M66: 15 | N66: 2 | O66: 13 | P66: 9 | R66: 62 | S66: 30079.061 | T66: 30079.061 | U66: #REF! | V66: #REF! | W66: 0 | X66: 0 | AA66: 10 | AB66: 365 | AD66: RADIO GRUBIŠNO POLJE d.o.o.
A67: GLAS SLAVONIJE D.D | B67: Poticanje kulturne raznolikosti i njegovanja baštine | C67: ARS SLAVONICA | E67: 80000 | F67: #REF! | G67: #REF! | K67: 9 | L67: 9 | M67: 4 | N67: 2 | O67: 11 | P67: 7 | R67: 42 | S67: 20376.138 | T67: 20376.138 | U67: #REF! | V67: #REF! | W67: 0 | X67: 0 | AA67: 15 | AB67: 40 | AD67: RADIO HRVATSKO ZAGORJE - KRAPINA d.o.o.
A68: GLAS SLAVONIJE D.D | B68: Razvoj odgoja, obrazovanja, znanosti i umjetnosti | C68: IZVOR ISTINE | E68: 90000 | F68: #REF! | G68: #REF! | K68: 7 | L68: 12 | M68: 3 | N68: 2 | O68: 7 | P68: 7 | R68: 38 | S68: 18435.553 | T68: 18435.553 | U68: #REF! | V68: #REF! | W68: 0 | X68: 0 | AA68: 60 | AB68: 44 | AD68: RADIO IVANEC d.o.o.
A69: GLAS SLAVONIJE D.D | B69: Posebni programi na područjima od posebne državne skrbi | C69: Naziv emisije nije upisan | E69: Nije upisano | F69: #REF! | G69: #REF! | R69: 0 | S69: 0 | T69: 0 | U69: #REF! | V69: #REF! | W69: 0 | X69: 0 | AD69: RADIO JASKA d.o.o.
A70: GLAS SLAVONIJE D.D | B70: Nacionalne manjine u Republici Hrvatskoj | C70: D-FUNK | E70: 60000 | F70: #REF! | G70: #REF! | K70: 8 | L70: 12 | M70: 8 | N70: 2 | O70: 7 | P70: 6 | R70: 43 | S70: 20861.284 | T70: 20861.284 | U70: #REF! | V70: #REF! | W70: 0 | X70: 0 | AA70: 30 | AB70: 41 | AD70: RADIO KAJ d.o.o.
A71: GLAS SLAVONIJE D.D | B71: Poticanje stvaralaštva na narječjima hrvatskog jezika | C71: Naziv emisije nije upisan | E71: Nije upisano | F71: #REF! | G71: #REF! | R71: 0 | S71: 0 | T71: 0 | U71: #REF! | V71: #REF! | W71: 0 | X71: 0 | AD71: RADIO KAŠTELA d.o.o.
A72: GLAS SLAVONIJE D.D | B72: Poticanje razvoja svijesti o ravnopravnosti spolova | C72: LIBELA | E72: 80000 | F72: #REF! | G72: #REF! | K72: 0 | L72: 0 | M72: 0 | N72: 0 | O72: 0 | P72: 0 | R72: 0 | S72: 0 | T72: 0 | U72: #REF! | V72: #REF! | W72: 0 | X72: 0 | AA72: 1xtj 15min | AB72: 42 | AD72: RADIO KOPRIVNICA d.o.o.
A73: GLAS SLAVONIJE D.D | B73: Kvalitetni programi za djecu i mlade | C73: Naziv emisije nije upisan | E73: Nije upisano | F73: #REF! | G73: #REF! | R73: 0 | S73: 0 | T73: 0 | U73: #REF! | V73: #REF! | W73: 0 | X73: 0 | AD73: RADIO KORČULA J.T.D.
A74: GRADSKI RADIO d.o.o. | B74: Ostvarivanje prava građana na javno informiranje | C74: DNEVNIK | E74: 73712.7 | F74: #REF! | G74: #REF! | K74: 13 | L74: 10 | M74: 14 | N74: 2 | O74: 12 | P74: 6 | R74: 57 | S74: 27653.33 | T74: 27653.33 | U74: #REF! | V74: #REF! | W74: 0 | X74: 0 | AA74: 6 | AB74: 300 | AD74: RADIO KRIŽEVCI d.o.o.
A75: GRADSKI RADIO d.o.o. | B75: Ostvarivanje prava građana na javno informiranje | C75: PRVI KORAK | E75: 59371.97 | F75: #REF! | G75: #REF! | K75: 8 | L75: 10 | M75: 7 | N75: 2 | O75: 9 | P75: 8 | R75: 44 | S75: 21346.43 | T75: 21346.43 | U75: #REF! | V75: #REF! | W75: 0 | X75: 0 | AA75: 15 | AB75: 52 | AD75: RADIO LABIN d.o.o.
A76: GRADSKI RADIO d.o.o. | B76: Poticanje kulturne raznolikosti i njegovanja baštine | C76: NARODNO BLAGO | E76: 61623.74 | F76: #REF! | G76: #REF! | K76: 8 | L76: 9 | M76: 8 | N76: 3 | O76: 12 | P76: 6 | R76: 46 | S76: 22316.723 | T76: 22316.723 | U76: #REF! | V76: #REF! | W76: 0 | X76: 0 | AA76: 15 | AB76: 52 | AD76: RADIO LUDBREG d.o.o.
A77: GRADSKI RADIO d.o.o. | B77: Razvoj odgoja, obrazovanja, znanosti i umjetnosti | C77: STROSSMAYEROVA BAŠTINA | E77: 56203.7 | F77: #REF! | G77: #REF! | K77: 8 | L77: 10 | M77: 7 | N77: 3 | O77: 8 | P77: 7 | R77: 43 | S77: 20861.284 | T77: 20861.284 | U77: #REF! | V77: #REF! | W77: 0 | X77: 0 | AA77: 15 | AB77: 52 | AD77: RADIO M - UDRUGA MLADEŽI VELA LUKA J.T.D.
A78: GRADSKI RADIO d.o.o. | B78: Posebni programi na područjima od posebne državne skrbi | C78: TU OKO NAS | E78: 61374.17 | F78: #REF! | G78: #REF! | K78: 8 | L78: 10 | M78: 9 | N78: 2 | O78: 10 | P78: 6 | R78: 45 | S78: 21831.576 | T78: 21831.576 | U78: #REF! | V78: #REF! | W78: 0 | X78: 0 | AA78: 15 | AB78: 52 | AD78: RADIO MAKARSKA RIVIJERA d.o.o.
A79: GRADSKI RADIO d.o.o. | B79: Nacionalne manjine u Republici Hrvatskoj | C79: UJEDINJENI U RAZLIČITOSTI | E79: 60869.17 | F79: #REF! | G79: #REF! | K79: 8 | L79: 8 | M79: 7 | N79: 2 | O79: 10 | P79: 5 | R79: 40 | S79: 19405.846 | T79: 19405.846 | U79: #REF! | V79: #REF! | W79: 0 | X79: 0 | AA79: 15 | AB79: 52 | AD79: RADIO MARIJA BISTRICA d.o.o.
A80: GRADSKI RADIO d.o.o. | B80: Poticanje stvaralaštva na narječjima hrvatskog jezika | C80: RIJEČ HRVATSKA | E80: 54959.46 | F80: #REF! | G80: #REF! | K80: 6 | L80: 10 | M80: 3 | N80: 3 | O80: 11 | P80: 2 | R80: 35 | S80: 16980.115 | T80: 16980.115 | U80: #REF! | V80: #REF! | W80: 0 | X80: 0 | AA80: 15 | AB80: 52 | AD80: RADIO MREŽNICA d.o.o.
A81: GRADSKI RADIO d.o.o. | B81: Poticanje razvoja svijesti o ravnopravnosti spolova | C81: DUGINE BOJE | E81: 58586.6 | F81: #REF! | G81: #REF! | K81: 7 | L81: 9 | M81: 6 | N81: 2 | O81: 10 | P81: 5 | R81: 39 | S81: 18920.7 | T81: 18920.7 | U81: #REF! | V81: #REF! | W81: 0 | X81: 0 | AA81: 15 | AB81: 52 | AD81: RADIO NARONA d.o.o.
A82: GRADSKI RADIO d.o.o. | B82: Kvalitetni programi za djecu i mlade | C82: LETEĆI ODRED | E82: 42525.08 | F82: #REF! | G82: #REF! | K82: 8 | L82: 9 | M82: 9 | N82: 3 | O82: 11 | P82: 4 | R82: 44 | S82: 21346.43 | T82: 21346.43 | U82: #REF! | V82: #REF! | W82: 0 | X82: 0 | AA82: 15 | AB82: 36 | AD82: RADIO NAŠICE d.o.o.
A83: HILARIS d.o.o. | B83: Ostvarivanje prava građana na javno informiranje | C83: LOKALNE VIJESTI | E83: 55800 | F83: #REF! | G83: #REF! | K83: 12 | L83: 10 | M83: 12 | N83: 5 | O83: 11 | P83: 7 | R83: 57 | S83: 27653.33 | T83: 27653.33 | U83: #REF! | V83: #REF! | W83: 0 | X83: 0 | AA83: 3 | AB83: 3744 | AD83: RADIO NOVI MAROF d.o.o.
A84: HILARIS d.o.o. | B84: Ostvarivanje prava građana na javno informiranje | C84: REPORTERI JAVLJAJU | E84: 37200 | F84: #REF! | G84: #REF! | K84: 0 | L84: 0 | M84: 0 | N84: 0 | O84: 0 | P84: 0 | R84: 0 | S84: 0 | T84: 0 | U84: #REF! | V84: #REF! | W84: 0 | X84: 0 | AA84: 5 | AB84: 624 | AD84: RADIO OGULIN d.o.o.
A85: HILARIS d.o.o. | B85: Poticanje kulturne raznolikosti i njegovanja baštine | C85: ŠKRINJA | E85: 43400 | F85: #REF! | G85: #REF! | K85: 12 | L85: 15 | M85: 9 | N85: 6 | O85: 9 | P85: 7 | R85: 58 | S85: 28138.476 | T85: 28138.476 | U85: #REF! | V85: #REF! | W85: 0 | X85: 0 | AA85: 30 | AB85: 51 | AD85: RADIO ORAHOVICA d.o.o.
... A93: HIT RADIO d.o.o. | B93: Ostvarivanje prava građana na javno informiranje | C93: 100 LJUDI 100 ĆUDI | E93: 100000 | F93: #REF! | G93: #REF! | K93: 10 | L93: 12 | M93: 7 | N93: 3 | O93: 10 | P93: 7 | R93: 49 | S93: 23772.161 | T93: 23772.161 | U93: #REF! | V93: #REF! | W93: 0 | X93: 0 | AA93: 30 | AB93: 43 | AD93: RADIO RAGUSA d.o.o.
A94: HIT RADIO d.o.o. | B94: Poticanje kulturne raznolikosti i njegovanja baštine | C94: DANI ALKE I VELIKE GOSPE | E94: 100000 | F94: #REF! | G94: #REF! | K94: 8 | L94: 15 | M94: 7 | N94: 4 | O94: 9 | P94: 8 | R94: 51 | S94: 24742.453 | T94: 24742.453 | U94: #REF! | V94: #REF! | W94: 0 | X94: 0 | AA94: 6x30;1x15;2x150;2x180;1x90 | AB94: 12 | AD94: RADIO RITAM d.o.o.
A95: HIT RADIO d.o.o. | B95: Razvoj odgoja, obrazovanja, znanosti i umjetnosti | C95: LIBAR | E95: 40000 | F95: #REF! | G95: #REF! | K95: 6 | L95: 10 | M95: 5 | N95: 4 | O95: 10 | P95: 7 | R95: 42 | S95: 20376.138 | T95: 20376.138 | U95: #REF! | V95: #REF! | W95: 0 | X95: 0 | AA95: 15 | AB95: 12 | AD95: RADIO SENJ d.o.o.
A96: HIT RADIO d.o.o. | B96: Posebni programi na područjima od posebne državne skrbi | C96: CETINSKA BRAZDA | E96: 40000 | F96: #REF! | G96: #REF! | K96: 9 | L96: 10 | M96: 5 | N96: 3 | O96: 8 | P96: 5 | R96: 40 | S96: 19405.846 | T96: 19405.846 | U96: #REF! | V96: #REF! | W96: 0 | X96: 0 | AA96: 30 | AB96: 12 | AD96: RADIO SISAK d.o.o.
A97: HIT RADIO d.o.o. | B97: Nacionalne manjine u Republici Hrvatskoj | C97: MANJINSKI KALENDAR | E97: 40000 | F97: #REF! | G97: #REF! | K97: 3 | L97: 8 | M97: 4 | N97: 3 | O97: 7 | P97: 3 | R97: 28 | S97: 13584.092 | T97: 13584.092 | U97: #REF! | V97: #REF! | W97: 0 | X97: 0 | AA97: 15 | AB97: 12 | AD97: RADIO SJEVEROZAPAD d.o.o.
A98: HIT RADIO d.o.o. | B98: Poticanje stvaralaštva na narječjima hrvatskog jezika | C98: SINJANJE | E98: 100000 | F98: #REF! | G98: #REF! | K98: 3 | L98: 8 | M98: 6 | N98: 5 | O98: 9 | P98: 5 | R98: 36 | S98: 17465.261 | T98: 17465.261 | U98: #REF! | V98: #REF! | W98: 0 | X98: 0 | AA98: 15 | AB98: 53 | AD98: RADIO SLUNJ d.o.o.
A99: HIT RADIO d.o.o. | B99: Poticanje razvoja svijesti o ravnopravnosti spolova | C99: JEDNA-KOST | E99: 40000 | F99: #REF! | G99: #REF! | K99: 8 | L99: 8 | M99: 4 | N99: 3 | O99: 9 | P99: 4 | R99: 36 | S99: 17465.261 | T99: 17465.261 | U99: #REF! | V99: #REF! | W99: 0 | X99: 0 | AA99: 30 | AB99: 12 | AD99: RADIO STAR TV d.o.o.
A100: HIT RADIO d.o.o. | B100: Kvalitetni programi za djecu i mlade | C100: NAŠA DICA | E100: 40000 | F100: #REF! | G100: #REF! | K100: 7 | L100: 10 | M100: 5 | N100: 3 | O100: 8 | P100: 4 | R100: 37 | S100: 17950.407 | T100: 17950.407 | U100: #REF! | V100: #REF! | W100: 0 | X100: 0 | AA100: 30 | AB100: 12 | AD100: RADIO STUBICA d.o.o.
A101: HRVATSKI KATOLIČKI RADIO | B101: Ostvarivanje prava građana na javno informiranje | C101: DNEVNIK | E101: 100000 | F101: #REF! | G101: #REF! | K101: 12 | L101: 15 | M101: 13 | N101: 4 | O101: 12 | P101: 10 | R101: 66 | S101: 32019.645 | T101: 32019.645 | U101: #REF! | V101: #REF! | W101: 0 | X101: 0 | AA101: 15 | AB101: 365 | AD101: RADIO SV.IVAN ZELINA d.o.o.
A102: HRVATSKI KATOLIČKI RADIO | B102: Ostvarivanje prava građana na javno informiranje | C102: KULTURNE MINUTE | E102: 100000 | F102: #REF! | G102: #REF! | K102: 15 | L102: 12 | M102: 5 | N102: 4 | O102: 13 | P102: 7 | R102: 56 | S102: 27168.184 | T102: 27168.184 | U102: #REF! | V102: #REF! | W102: 0 | X102: 0 | AA102: 10 | AB102: 313 | AD102: RADIO TEREZIJA d.o.o.
A103: HRVATSKI KATOLIČKI RADIO | B103: Poticanje kulturne raznolikosti i njegovanja baštine | C103: KULTUROGRAM | E103: 50000 | F103: #REF! | G103: #REF! | K103: 15 | L103: 10 | M103: 5 | N103: 3 | O103: 13 | P103: 8 | R103: 54 | S103: 26197.892 | T103: 26197.892 | U103: #REF! | V103: #REF! | W103: 0 | X103: 0 | AA103: 60 | AB103: 30 | AD103: RADIO TRSAT d.o.o.
A104: HRVATSKI KATOLIČKI RADIO | B104: Razvoj odgoja, obrazovanja, znanosti i umjetnosti | C104: VREMEPLOV | E104: 80000 | F104: #REF! | G104: #REF! | K104: 15 | L104: 12 | M104: 6 | N104: 3 | O104: 14 | P104: 7 | R104: 57 | S104: 27653.33 | T104: 27653.33 | U104: #REF! | V104: #REF! | W104: 0 | X104: 0 | AA104: 15 | AB104: 365 | AD104: RADIO VALLIS AUREA d.o.o.
A105: HRVATSKI KATOLIČKI RADIO | B105: Posebni programi na područjima od posebne državne skrbi | C105: Naziv emisije nije upisan | E105: Nije upisano | F105: #REF! | G105: #REF! | R105: 0 | S105: 0 | T105: 0 | U105: #REF! | V105: #REF! | W105: 0 | X105: 0 | AD105: RADIO VARAŽDIN d.o.o.
A106: HRVATSKI KATOLIČKI RADIO | B106: Nacionalne manjine u Republici Hrvatskoj | C106: SNAGA DIJALOGA | E106: 50000 | F106: #REF! | G106: #REF! | K106: 14 | L106: 12 | M106: 8 | N106: 3 | O106: 10 | P106: 8 | R106: 55 | S106: 26683.038 | T106: 26683.038 | U106: #REF! | V106: #REF! | W106: 0 | X106: 0 | AA106: 60 | AB106: 15 | AD106: RADIO VELIKA GORICA d.o.o.
A107: HRVATSKI KATOLIČKI RADIO | B107: Poticanje stvaralaštva na narječjima hrvatskog jezika | C107: HRVATSKO NARODNO BLAGO | E107: 50000 | F107: #REF! | G107: #REF! | K107: 13 | L107: 8 | M107: 7 | N107: 3 | O107: 11 | P107: 4 | R107: 46 | S107: 22316.723 | T107: 22316.723 | U107: #REF! | V107: #REF! | W107: 0 | X107: 0 | AA107: 90 | AB107: 33 | AD107: RADIO VRBOVEC d.o.o.
A108: HRVATSKI KATOLIČKI RADIO | B108: Poticanje razvoja svijesti o ravnopravnosti spolova | C108: OBITELJ DANAS | E108: 50000 | F108: #REF! | G108: #REF! | K108: 10 | L108: 12 | M108: 2 | N108: 2 | O108: 7 | P108: 7 | R108: 40 | S108: 19405.846 | T108: 19405.846 | U108: #REF! | V108: #REF! | W108: 0 | X108: 0 | AA108: 35 | AB108: 30 | AD108: RADIO ZABOK d.o.o.
A109: HRVATSKI KATOLIČKI RADIO | B109: Kvalitetni programi za djecu i mlade | C109: PAMETNA PITANJA ZA PAMETNE GLAVE | E109: 50000 | F109: #REF! | G109: #REF! | K109: 10 | L109: 14 | M109: 7 | N109: 2 | O109: 10 | P109: 7 | R109: 50 | S109: 24257.307 | T109: 24257.307 | U109: #REF! | V109: #REF! | W109: 0 | X109: 0 | AA109: 25 | AB109: 30 | AD109: RADIO ZLATAR d.o.o.
A110: HRVATSKI RADIO ČAKOVEC d.o.o. | B110: Ostvarivanje prava građana na javno informiranje | C110: MEĐIMURSKA KRONIKA | E110: 70000 | F110: #REF! | G110: #REF! | K110: 13 | L110: 10 | M110: 11 | N110: 4 | O110: 11 | P110: 9 | R110: 58 | S110: 28138.476 | T110: 28138.476 | U110: #REF! | V110: #REF! | W110: 0 | X110: 0 | AA110: 10 | AB110: 312 | AD110: RAPSODIJA d.o.o.
A111: HRVATSKI RADIO ČAKOVEC d.o.o. | B111: Ostvarivanje prava građana na javno informiranje | C111: POLJOPRIVREDNA EMISIJA | E111: 25000 | F111: #REF! | G111: #REF! | K111: 11 | L111: 9 | M111: 10 | N111: 4 | O111: 9 | P111: 8 | R111: 51 | S111: 24742.453 | T111: 24742.453 | U111: #REF! | V111: #REF! | W111: 0 | X111: 0 | AA111: 30 | AB111: 51 | AD111: REFUL RADIO d.o.o.
A112: HRVATSKI RADIO ČAKOVEC d.o.o. | B112: Poticanje kulturne raznolikosti i njegovanja baštine | C112: KULTURNJAK | E112: 30000 | F112: #REF! | G112: #REF! | K112: 8 | L112: 8 | M112: 8 | N112: 3 | O112: 10 | P112: 8 | R112: 45 | S112: 21831.576 | T112: 21831.576 | U112: #REF! | V112: #REF! | W112: 0 | X112: 0 | AA112: 55 | AB112: 51 | AD112: SLATINSKI INFORMATIVNI CENTAR d.o.o.
A113: HRVATSKI RADIO ČAKOVEC d.o.o. | B113: Razvoj odgoja, obrazovanja, znanosti i umjetnosti | C113: GLAS MLADIH | E113: 30000 | F113: #REF! | G113: #REF! | K113: 13 | L113: 8 | M113: 9 | N113: 4 | O113: 9 | P113: 6 | R113: 49 | S113: 23772.161 | T113: 23772.161 | U113: #REF! | V113: #REF! | W113: 0 | X113: 0 | AA113: 55 | AB113: 50 | AD113: SLAVONSKA POSAVINA d.o.o.
A114: HRVATSKI RADIO ČAKOVEC d.o.o. | B114: Posebni programi na područjima od posebne državne skrbi | C114: ŽUPANIJA ZRINSKIH | E114: 40000 | F114: #REF! | G114: #REF! | K114: 8 | L114: 8 | M114: 10 | N114: 4 | O114: 12 | P114: 6 | R114: 48 | S114: 23287.015 | T114: 23287.015 | U114: #REF! | V114: #REF! | W114: 0 | X114: 0 | AA114: 50 | AB114: 13 | AD114: S-TEL d.o.o.
...
